BEGIN:VCALENDAR
VERSION:2.0
PRODID:-//www.pieterlen.ch//NONSGML kigkonsult.se ICALCREATOR_VERSION//
CALSCALE:GREGORIAN
METHOD:PUBLISH
X-WR-TIMEZONE','EUROPE/BERLIN:
BEGIN:VEVENT
UID:20260422T132855CEST-2185wOT0rX@www.pieterlen.ch
DTSTAMP:20260422T112855Z
DESCRIPTION:Klicken Sie auf den folgenden Link\, um weitere Informationen z
 ur Veranstaltung zu erhalten:\nhttp://www.pieterlen.ch/de/veranstaltungen/
 detail/detail.php?i=1773
DTSTART:20260503T170000
DTEND:20260503T193000
LOCATION:Pieterlen
SUMMARY:Folk in Heaven: Dave Ellis & Boo Howard
END:VEVENT
END:VCALENDAR
