BEGIN:VCALENDAR
VERSION:2.0
PRODID:-//www.pieterlen.ch//NONSGML kigkonsult.se ICALCREATOR_VERSION//
CALSCALE:GREGORIAN
METHOD:PUBLISH
X-WR-TIMEZONE','EUROPE/BERLIN:
BEGIN:VEVENT
UID:20260422T133052CEST-1732HVHizT@www.pieterlen.ch
DTSTAMP:20260422T113052Z
DESCRIPTION:Klicken Sie auf den folgenden Link\, um weitere Informationen z
 ur Veranstaltung zu erhalten:\nhttp://www.pieterlen.ch/de/veranstaltungen/
 detail/detail.php?i=1774
DTSTART:20260515T200000
DTEND:20260515T221500
LOCATION:Pieterlen
SUMMARY:Folk in Heaven: Eric Brace & Thomm Jutz
END:VEVENT
END:VCALENDAR
