BEGIN:VCALENDAR
VERSION:2.0
PRODID:-//www.pieterlen.ch//NONSGML kigkonsult.se ICALCREATOR_VERSION//
CALSCALE:GREGORIAN
METHOD:PUBLISH
X-WR-TIMEZONE','EUROPE/BERLIN:
BEGIN:VEVENT
UID:20260424T110344CEST-8675WVuCng@www.pieterlen.ch
DTSTAMP:20260424T090344Z
DESCRIPTION:Klicken Sie auf den folgenden Link\, um weitere Informationen z
 ur Veranstaltung zu erhalten:\nhttp://www.pieterlen.ch/de/veranstaltungen/
 detail/detail.php?i=1890
DTSTART:20260505T133000
DTEND:20260505T170000
LOCATION:Pieterlen
SUMMARY:Wander-Bummel Pieterlen
END:VEVENT
END:VCALENDAR
