BEGIN:VCALENDAR
VERSION:2.0
PRODID:-//www.pieterlen.ch//NONSGML kigkonsult.se ICALCREATOR_VERSION//
CALSCALE:GREGORIAN
METHOD:PUBLISH
X-WR-TIMEZONE','EUROPE/BERLIN:
BEGIN:VEVENT
UID:20260424T110010CEST-1294P17fIU@www.pieterlen.ch
DTSTAMP:20260424T090010Z
DESCRIPTION:Klicken Sie auf den folgenden Link\, um weitere Informationen z
 ur Veranstaltung zu erhalten:\nhttp://www.pieterlen.ch/de/veranstaltungen/
 detail/detail.php?i=1893
DTSTART:20261103T133000
DTEND:20261103T170000
LOCATION:Pieterlen
SUMMARY:Wander-Bummel Pieterlen
END:VEVENT
END:VCALENDAR
