BEGIN:VCALENDAR
VERSION:2.0
PRODID:-//www.pieterlen.ch//NONSGML kigkonsult.se ICALCREATOR_VERSION//
CALSCALE:GREGORIAN
METHOD:PUBLISH
X-WR-TIMEZONE','EUROPE/BERLIN:
BEGIN:VEVENT
UID:20260422T133104CEST-7944UuOvrj@www.pieterlen.ch
DTSTAMP:20260422T113104Z
DESCRIPTION:Klicken Sie auf den folgenden Link\, um weitere Informationen z
 ur Veranstaltung zu erhalten:\nhttp://www.pieterlen.ch/de/veranstaltungen/
 detail/detail.php?i=1898
DTSTART:20261201T133000
DTEND:20261201T170000
LOCATION:Pieterlen
SUMMARY:Wander-Bummel Pieterlen
END:VEVENT
END:VCALENDAR
